BEGIN:VCALENDAR
VERSION:2.0
PRODID:-//ChamberMaster//Event Calendar 2.0//EN
METHOD:PUBLISH
X-PUBLISHED-TTL:P3D
REFRESH-INTERVAL:P3D
CALSCALE:GREGORIAN
BEGIN:VEVENT
DTSTART:20210602T153000Z
DTEND:20210602T170000Z
X-MICROSOFT-CDO-ALLDAYEVENT:FALSE
SUMMARY:WINgs Luncheon
DESCRIPTION:Calling ALL Women in Business - WINgs (Women In Networking Growing Stronger) is a lively gathering of business women from across the Miami Valley whose sole purpose is to help you grow professionally\, build a stable support link and engage with other like-minded business professionals.  \n\n\n\nWINgs meets on the first Wednesday of each month\; and a bit of caution\, this is not your normal networking group!  We will have you up\, learning about your colleagues and engaging in the latest fun networking tools to help you Move Business FORWARD!\n\n\n\n*If you'd prefer to participate virtually\, please contact the Vandalia Butler Chamber office for login details.
X-ALT-DESC;FMTTYPE=text/html:<span style="font-size:16px\;"><strong>Calling ALL Women in Business</strong> - WINgs (<u><strong>W</strong></u>omen <strong><u>I</u></strong>n <strong><u>N</u></strong>etworking <strong><u>G</u></strong>rowing <u><strong>S</strong></u>tronger) is a lively gathering of business women from across the Miami Valley whose sole purpose is to help you grow professionally\, build a stable support link and engage with other like-minded business professionals.&nbsp\;&nbsp\;<br />\n<br />\nWINgs meets on the first Wednesday of each month\; and a bit of caution\, this is not your normal networking group!&nbsp\; We will have you up\, learning about your colleagues and engaging in the latest fun networking tools to help you <strong>Move Business <em>FORWARD!</em></strong><br />\n<br />\n<em>*If you&#39\;d prefer to participate virtually\, please contact the Vandalia Butler Chamber office for login details.</em></span>
LOCATION:Elements IV Interiors *Meeting will be held in the lower level meeting space 3600 Wyse Road Dayton\, OH 45414 *Catering by Jerardi's Little Store
UID:e.3542.234
SEQUENCE:3
DTSTAMP:20260421T023636Z
URL:http://members.vandaliabutlerchamber.org/events/details/wings-luncheon-06-07-2021-234
END:VEVENT

END:VCALENDAR
