BEGIN:VCALENDAR
VERSION:2.0
PRODID:-//ChamberMaster//Event Calendar 2.0//EN
METHOD:PUBLISH
X-PUBLISHED-TTL:P3D
REFRESH-INTERVAL:P3D
CALSCALE:GREGORIAN
BEGIN:VEVENT
DTSTART:20220713T153000Z
DTEND:20220713T170000Z
X-MICROSOFT-CDO-ALLDAYEVENT:FALSE
SUMMARY:WINgs Luncheon
DESCRIPTION:Calling ALL Women in Business - WINgs (Women In Networking Growing Stronger) is a lively gathering of business women from across the Miami Valley whose sole purpose is to help you grow your business\, provide a stable support link and engage with other like-minded business professionals.  \n\n\n\nWINgs meets on the first Wednesday of each month\; and a bit of caution\, this is not your average networking group!  We will have you up\, learning about your colleagues and engaging in the latest fun networking tools to help you Move Business FORWARD!
X-ALT-DESC;FMTTYPE=text/html:<span style="font-size:16px\;"><strong>Calling ALL Women in Business</strong> - WINgs (<u><strong>W</strong></u>omen <strong><u>I</u></strong>n <strong><u>N</u></strong>etworking <strong><u>G</u></strong>rowing <u><strong>S</strong></u>tronger) is a lively gathering of business women from across the Miami Valley whose sole purpose is to help you grow your business\, provide a stable support link and engage with other like-minded business professionals.&nbsp\;&nbsp\;<br />\n<br />\nWINgs meets on the first Wednesday of each month\; and a bit of caution\, this is not your average networking group!&nbsp\; We will have you up\, learning about your colleagues and engaging in the latest fun networking tools to help you <strong>Move Business <em>FORWARD!</em></strong></span><br />\n&nbsp\;
LOCATION:Aullwood Audubon Nature Center 1000 Aullwood Road Dayton\, OH 45414
UID:e.3542.437
SEQUENCE:3
DTSTAMP:20260420T075016Z
URL:http://members.vandaliabutlerchamber.org/events/details/wings-luncheon-07-06-2022-437
END:VEVENT

END:VCALENDAR
