BEGIN:VCALENDAR
VERSION:2.0
PRODID:-//ChamberMaster//Event Calendar 2.0//EN
METHOD:PUBLISH
X-PUBLISHED-TTL:P3D
REFRESH-INTERVAL:P3D
CALSCALE:GREGORIAN
BEGIN:VEVENT
DTSTART:20211103T153000Z
DTEND:20211103T170000Z
X-MICROSOFT-CDO-ALLDAYEVENT:FALSE
SUMMARY:WINgs Luncheon
DESCRIPTION:Calling ALL Women in Business - WINgs (Women In Networking Growing Stronger) is a lively gathering of business women from across the Miami Valley whose sole purpose is to help you grow your business\, provide a stable support link and engage with other like-minded business professionals.  \n\n\n\nWINgs meets on the first Wednesday of each month\; and a bit of caution\, this is not your average networking group!  We will have you up\, learning about your colleagues and engaging in the latest fun networking tools to help you Move Business FORWARD!\n\n\n\n*If you'd prefer to participate virtually\, please contact the Vandalia Butler Chamber office for login details.
X-ALT-DESC;FMTTYPE=text/html:<span style="font-size:16px\;"><strong>Calling ALL Women in Business</strong> - WINgs (<u><strong>W</strong></u>omen <strong><u>I</u></strong>n <strong><u>N</u></strong>etworking <strong><u>G</u></strong>rowing <u><strong>S</strong></u>tronger) is a lively gathering of business women from across the Miami Valley whose sole purpose is to help you grow your business\, provide a stable support link and engage with other like-minded business professionals.&nbsp\;&nbsp\;<br />\n<br />\nWINgs meets on the first Wednesday of each month\; and a bit of caution\, this is not your average networking group!&nbsp\; We will have you up\, learning about your colleagues and engaging in the latest fun networking tools to help you <strong>Move Business <em>FORWARD!</em></strong><br />\n<br />\n<em>*If you&#39\;d prefer to participate virtually\, please contact the Vandalia Butler Chamber office for login details.</em></span>
LOCATION:Aullwood Audubon Center and Farm 1000 Aullwood Drive Dayton\, OH 45414 *Catering by McAlister's Deli
UID:e.3542.239
SEQUENCE:3
DTSTAMP:20260420T201910Z
URL:http://members.vandaliabutlerchamber.org/events/details/wings-luncheon-11-07-2021-239
END:VEVENT

END:VCALENDAR
