BEGIN:VCALENDAR
VERSION:2.0
PRODID:-//ChamberMaster//Event Calendar 2.0//EN
METHOD:PUBLISH
X-PUBLISHED-TTL:P3D
REFRESH-INTERVAL:P3D
CALSCALE:GREGORIAN
BEGIN:VEVENT
DTSTART:20191002T151000Z
DTEND:20191002T170000Z
X-MICROSOFT-CDO-ALLDAYEVENT:FALSE
SUMMARY:WINGS Luncheon
DESCRIPTION:"WINGS"\n\nWomen In Network Growing Strong! October Luncheon
X-ALT-DESC;FMTTYPE=text/html:&quot\;WINGS&quot\;<br />\nWomen In Network Growing Strong! October Luncheon
LOCATION:Cedar Springs Pavilion 7951 Co Rd 25A Tipp City\, OH 45371 October 2nd\, 2019
UID:e.3542.133
SEQUENCE:3
DTSTAMP:20260424T083225Z
URL:http://members.vandaliabutlerchamber.org/events/details/wings-luncheon-133
END:VEVENT

END:VCALENDAR
