BEGIN:VCALENDAR
VERSION:2.0
PRODID:-//ChamberMaster//Event Calendar 2.0//EN
METHOD:PUBLISH
X-PUBLISHED-TTL:P3D
REFRESH-INTERVAL:P3D
CALSCALE:GREGORIAN
BEGIN:VEVENT
DTSTART:20200205T163000Z
DTEND:20200205T180000Z
X-MICROSOFT-CDO-ALLDAYEVENT:FALSE
SUMMARY:WINGS Luncheon
DESCRIPTION:WINGS  Luncheon
X-ALT-DESC;FMTTYPE=text/html:WINGS&nbsp\; Luncheon&nbsp\;&nbsp\;&nbsp\;&nbsp\;&nbsp\;&nbsp\;&nbsp\;&nbsp\;<br />\n<br />\n<br />\n<br />\n<br />\n&nbsp\;
LOCATION:Elements IV 3680 Wyse Rd Dayton\, OH 45414 Lunch will be catered by Jerardi's
UID:e.3542.159
SEQUENCE:3
DTSTAMP:20260424T053041Z
URL:http://members.vandaliabutlerchamber.org/events/details/wings-luncheon-159
END:VEVENT

END:VCALENDAR
