BEGIN:VCALENDAR
VERSION:2.0
PRODID:-//ChamberMaster//Event Calendar 2.0//EN
METHOD:PUBLISH
X-PUBLISHED-TTL:P3D
REFRESH-INTERVAL:P3D
CALSCALE:GREGORIAN
BEGIN:VEVENT
DTSTART:20200304T163000Z
DTEND:20200304T180000Z
X-MICROSOFT-CDO-ALLDAYEVENT:FALSE
SUMMARY:WINGS Luncheon
DESCRIPTION:WINGS Luncheon
X-ALT-DESC;FMTTYPE=text/html:WINGS Luncheon&nbsp\;&nbsp\;&nbsp\;&nbsp\;&nbsp\;&nbsp\;&nbsp\;&nbsp\;&nbsp\;&nbsp\;&nbsp\;&nbsp\;
LOCATION:Cassel Hills Golf Course 201 Clubhouse Way Vandalia\, OH 45377
UID:e.3542.162
SEQUENCE:3
DTSTAMP:20260424T012502Z
URL:http://members.vandaliabutlerchamber.org/events/details/wings-luncheon-162
END:VEVENT

END:VCALENDAR
