BEGIN:VCALENDAR
VERSION:2.0
PRODID:-//ChamberMaster//Event Calendar 2.0//EN
METHOD:PUBLISH
X-PUBLISHED-TTL:P3D
REFRESH-INTERVAL:P3D
CALSCALE:GREGORIAN
BEGIN:VEVENT
DTSTART:20200701T153000Z
DTEND:20200701T170000Z
X-MICROSOFT-CDO-ALLDAYEVENT:FALSE
SUMMARY:WINGS Luncheon
DESCRIPTION:WINGS Luncheon    - Catered by Outback Steakhouse
X-ALT-DESC;FMTTYPE=text/html:WINGS Luncheon&nbsp\; &nbsp\; - Catered by Outback Steakhouse
LOCATION:Dayton Metro Library - Vandalia Branch 330 South Dixie Drive Vandalia\, OH 45377
UID:e.3542.197
SEQUENCE:3
DTSTAMP:20260423T195042Z
URL:http://members.vandaliabutlerchamber.org/events/details/wings-luncheon-197
END:VEVENT

END:VCALENDAR
