BEGIN:VCALENDAR
VERSION:2.0
PRODID:-//ChamberMaster//Event Calendar 2.0//EN
METHOD:PUBLISH
X-PUBLISHED-TTL:P3D
REFRESH-INTERVAL:P3D
CALSCALE:GREGORIAN
BEGIN:VEVENT
DTSTART:20200902T153000Z
DTEND:20200902T170000Z
X-MICROSOFT-CDO-ALLDAYEVENT:FALSE
SUMMARY:WINGS Luncheon
DESCRIPTION:End of Summer WINGS Luncheon  - In person or attend via Zoom.  *Contact our office to obtain Zoom login credentials.
X-ALT-DESC;FMTTYPE=text/html:<span style="font-size:14px\;"><strong>End of Summer WINGS Luncheon</strong>&nbsp\; - In person or attend via Zoom.&nbsp\; <span style="color:#0000FF\;">*Contact our office to obtain Zoom login credentials.</span></span>
LOCATION:Helke Park Randler Avenue Vandalia\, Ohio 45377
UID:e.3542.207
SEQUENCE:3
DTSTAMP:20260423T170950Z
URL:http://members.vandaliabutlerchamber.org/events/details/wings-luncheon-207
END:VEVENT

END:VCALENDAR
