BEGIN:VCALENDAR
VERSION:2.0
PRODID:-//ChamberMaster//Event Calendar 2.0//EN
METHOD:PUBLISH
X-PUBLISHED-TTL:P3D
REFRESH-INTERVAL:P3D
CALSCALE:GREGORIAN
BEGIN:VEVENT
DTSTART:20201007T153000Z
DTEND:20201007T170000Z
X-MICROSOFT-CDO-ALLDAYEVENT:FALSE
SUMMARY:WINGS Luncheon
DESCRIPTION:October Wings Lunch - Catered by Lisa Brannon at Cedar Springs Pavilion
X-ALT-DESC;FMTTYPE=text/html:<span style="font-size:16px\;"><span style="color:#800080\;"><strong>October Wings Lunch</strong></span></span> - Catered by Lisa Brannon at Cedar Springs Pavilion
LOCATION:Cedar Springs Pavilion 7951 South County Road 25A Tipp City\, OH 45371
UID:e.3542.211
SEQUENCE:3
DTSTAMP:20260423T154301Z
URL:http://members.vandaliabutlerchamber.org/events/details/wings-luncheon-211
END:VEVENT

END:VCALENDAR
