BEGIN:VCALENDAR
VERSION:2.0
PRODID:-//ChamberMaster//Event Calendar 2.0//EN
METHOD:PUBLISH
X-PUBLISHED-TTL:P3D
REFRESH-INTERVAL:P3D
CALSCALE:GREGORIAN
BEGIN:VEVENT
DTSTART:20220504T151000Z
DTEND:20220504T170000Z
X-MICROSOFT-CDO-ALLDAYEVENT:FALSE
SUMMARY:WINGS Luncheon
DESCRIPTION:"WINgs"  Women In Network Growing Stronger\n\n\n\nCalling ALL Women in Business - WINgs (Women In Networking Growing Stronger) is a lively gathering of business women from across the Miami Valley whose sole purpose is to help you grow your business\, provide a stable support link and engage with other like-minded business professionals.  \n\n\n\nWINgs meets on the first Wednesday of each month\; and a bit of caution\, this is not your average networking group!  We will have you up\, learning about your colleagues and engaging in the latest fun networking tools to help you Move Business FORWARD!
X-ALT-DESC;FMTTYPE=text/html:&quot\;WINgs&quot\;&nbsp\; Women In Network Growing Stronger<br />\n<br />\n<strong style="color: rgb(51\, 51\, 51)\; font-family: sans-serif\, Arial\, Verdana\, &quot\;Trebuchet MS&quot\;\; font-size: 16px\; background-color: rgb(255\, 255\, 255)\;">Calling ALL Women in Business</strong><span style="color: rgb(51\, 51\, 51)\; font-family: sans-serif\, Arial\, Verdana\, &quot\;Trebuchet MS&quot\;\; font-size: 16px\; background-color: rgb(255\, 255\, 255)\;">&nbsp\;- WINgs (</span><u style="color: rgb(51\, 51\, 51)\; font-family: sans-serif\, Arial\, Verdana\, &quot\;Trebuchet MS&quot\;\; font-size: 16px\; background-color: rgb(255\, 255\, 255)\;"><strong>W</strong></u><span style="color: rgb(51\, 51\, 51)\; font-family: sans-serif\, Arial\, Verdana\, &quot\;Trebuchet MS&quot\;\; font-size: 16px\; background-color: rgb(255\, 255\, 255)\;">omen&nbsp\;</span><strong style="color: rgb(51\, 51\, 51)\; font-family: sans-serif\, Arial\, Verdana\, &quot\;Trebuchet MS&quot\;\; font-size: 16px\; background-color: rgb(255\, 255\, 255)\;"><u>I</u></strong><span style="color: rgb(51\, 51\, 51)\; font-family: sans-serif\, Arial\, Verdana\, &quot\;Trebuchet MS&quot\;\; font-size: 16px\; background-color: rgb(255\, 255\, 255)\;">n&nbsp\;</span><strong style="color: rgb(51\, 51\, 51)\; font-family: sans-serif\, Arial\, Verdana\, &quot\;Trebuchet MS&quot\;\; font-size: 16px\; background-color: rgb(255\, 255\, 255)\;"><u>N</u></strong><span style="color: rgb(51\, 51\, 51)\; font-family: sans-serif\, Arial\, Verdana\, &quot\;Trebuchet MS&quot\;\; font-size: 16px\; background-color: rgb(255\, 255\, 255)\;">etworking&nbsp\;</span><strong style="color: rgb(51\, 51\, 51)\; font-family: sans-serif\, Arial\, Verdana\, &quot\;Trebuchet MS&quot\;\; font-size: 16px\; background-color: rgb(255\, 255\, 255)\;"><u>G</u></strong><span style="color: rgb(51\, 51\, 51)\; font-family: sans-serif\, Arial\, Verdana\, &quot\;Trebuchet MS&quot\;\; font-size: 16px\; background-color: rgb(255\, 255\, 255)\;">rowing&nbsp\;</span><u style="color: rgb(51\, 51\, 51)\; font-family: sans-serif\, Arial\, Verdana\, &quot\;Trebuchet MS&quot\;\; font-size: 16px\; background-color: rgb(255\, 255\, 255)\;"><strong>S</strong></u><span style="color: rgb(51\, 51\, 51)\; font-family: sans-serif\, Arial\, Verdana\, &quot\;Trebuchet MS&quot\;\; font-size: 16px\; background-color: rgb(255\, 255\, 255)\;">tronger) is a lively gathering of business women from across the Miami Valley whose sole purpose is to help you grow your business\, provide a stable support link and engage with other like-minded business professionals.&nbsp\;&nbsp\;</span><br style="color: rgb(51\, 51\, 51)\; font-family: sans-serif\, Arial\, Verdana\, &quot\;Trebuchet MS&quot\;\; font-size: 16px\; background-color: rgb(255\, 255\, 255)\;" />\n<br style="color: rgb(51\, 51\, 51)\; font-family: sans-serif\, Arial\, Verdana\, &quot\;Trebuchet MS&quot\;\; font-size: 16px\; background-color: rgb(255\, 255\, 255)\;" />\n<span style="color: rgb(51\, 51\, 51)\; font-family: sans-serif\, Arial\, Verdana\, &quot\;Trebuchet MS&quot\;\; font-size: 16px\; background-color: rgb(255\, 255\, 255)\;">WINgs meets on the first Wednesday of each month\; and a bit of caution\, this is not your average networking group!&nbsp\; We will have you up\, learning about your colleagues and engaging in the latest fun networking tools to help you&nbsp\;</span><strong style="color: rgb(51\, 51\, 51)\; font-family: sans-serif\, Arial\, Verdana\, &quot\;Trebuchet MS&quot\;\; font-size: 16px\; background-color: rgb(255\, 255\, 255)\;">Move Business&nbsp\;<em>FORWARD!</em></strong>
LOCATION:Cedar Springs Pavilion 7951 South County Road 25A Tipp City\, OH 45371
UID:e.3542.306
SEQUENCE:3
DTSTAMP:20260420T105346Z
URL:http://members.vandaliabutlerchamber.org/events/details/wings-luncheon-306
END:VEVENT

END:VCALENDAR
