BEGIN:VCALENDAR
VERSION:2.0
PRODID:-//ChamberMaster//Event Calendar 2.0//EN
METHOD:PUBLISH
X-PUBLISHED-TTL:P3D
REFRESH-INTERVAL:P3D
CALSCALE:GREGORIAN
BEGIN:VEVENT
DTSTART:20200603T153000Z
DTEND:20200603T170000Z
X-MICROSOFT-CDO-ALLDAYEVENT:FALSE
SUMMARY:WINGS Luncheon / Cancelled until further notice
DESCRIPTION:WINGS Lunch - Aullwood Faerie House Hunt
X-ALT-DESC;FMTTYPE=text/html:WINGS Lunch&nbsp\;- Aullwood Faerie House Hunt
LOCATION:Aullwood Center 1000 Aullwood Rd. Dayton\, OH 45414
UID:e.3542.170
SEQUENCE:3
DTSTAMP:20260423T212130Z
URL:http://members.vandaliabutlerchamber.org/events/details/wings-luncheon-cancelled-until-further-notice-06-03-2020-170
END:VEVENT

END:VCALENDAR
