BEGIN:VCALENDAR
VERSION:2.0
PRODID:-//ChamberMaster//Event Calendar 2.0//EN
METHOD:PUBLISH
X-PUBLISHED-TTL:P3D
REFRESH-INTERVAL:P3D
CALSCALE:GREGORIAN
BEGIN:VEVENT
DTSTART:20200401T153000Z
DTEND:20200401T170000Z
X-MICROSOFT-CDO-ALLDAYEVENT:FALSE
SUMMARY:WINGS Luncheon / Cancelled until further notice
DESCRIPTION:WINGS Luncheon - April Fools Day
X-ALT-DESC;FMTTYPE=text/html:WINGS Luncheon - April Fools Day
LOCATION:Ginghamsburg Chruch 6759 S. Co Rd 25A Tipp City\, OH 45371
UID:e.3542.164
SEQUENCE:3
DTSTAMP:20260424T001042Z
URL:http://members.vandaliabutlerchamber.org/events/details/wings-luncheon-cancelled-until-further-notice-164
END:VEVENT

END:VCALENDAR
