BEGIN:VCALENDAR
VERSION:2.0
PRODID:-//ChamberMaster//Event Calendar 2.0//EN
METHOD:PUBLISH
X-PUBLISHED-TTL:P3D
REFRESH-INTERVAL:P3D
CALSCALE:GREGORIAN
BEGIN:VEVENT
DTSTART:20230425T120000Z
DTEND:20230425T190000Z
X-MICROSOFT-CDO-ALLDAYEVENT:FALSE
SUMMARY:Women in Business Conference 2023
DESCRIPTION:A WINgs experience like no other - the 2023 WINgs Women In Business Conference\, "Thriving Through Adversity"\, will engage business women from all across the Miami Valley. Join our host/emcee -  Sheena Ellison - along with Keynote speaker Stacey Lawson and other scheduled leaders for a conference experience that will have you building engagement\, enriching your life and empowering you to do even greater things.
X-ALT-DESC;FMTTYPE=text/html:<span style="font-family: &quot\;times new roman&quot\;\; font-size: 18px\;">A WINgs experience like no other - the 2023 WINgs Women In Business Conference\,&nbsp\;</span><strong style="font-family: &quot\;times new roman&quot\;\; font-size: 18px\;"><em>&quot\;Thriving Through Adversity&quot\;</em></strong><span style="font-family: &quot\;times new roman&quot\;\; font-size: 18px\;">\, will engage business women from all across the Miami Valley. Join our host/emcee -&nbsp\; Sheena Ellison - along with Keynote speaker Stacey Lawson and other scheduled leaders for a conference experience that will have you building engagement\, enriching your life and empowering you to do even greater things.</span>
LOCATION:The Concord Room 845 W Market St. Troy\, OH 45373
UID:e.3542.733
SEQUENCE:3
DTSTAMP:20260419T185211Z
URL:http://members.vandaliabutlerchamber.org/events/details/women-in-business-conference-2023-733
END:VEVENT

END:VCALENDAR
